BEGIN:VCALENDAR
VERSION:2.0
PRODID:-//Distributed Wind Energy Association - ECPv6.15.20//NONSGML v1.0//EN
CALSCALE:GREGORIAN
METHOD:PUBLISH
X-ORIGINAL-URL:https://distributedwind.org
X-WR-CALDESC:Events for Distributed Wind Energy Association
REFRESH-INTERVAL;VALUE=DURATION:PT1H
X-Robots-Tag:noindex
X-PUBLISHED-TTL:PT1H
BEGIN:VTIMEZONE
TZID:America/Chicago
BEGIN:DAYLIGHT
TZOFFSETFROM:-0600
TZOFFSETTO:-0500
TZNAME:CDT
DTSTART:20230312T080000
END:DAYLIGHT
BEGIN:STANDARD
TZOFFSETFROM:-0500
TZOFFSETTO:-0600
TZNAME:CST
DTSTART:20231105T070000
END:STANDARD
BEGIN:DAYLIGHT
TZOFFSETFROM:-0600
TZOFFSETTO:-0500
TZNAME:CDT
DTSTART:20240310T080000
END:DAYLIGHT
BEGIN:STANDARD
TZOFFSETFROM:-0500
TZOFFSETTO:-0600
TZNAME:CST
DTSTART:20241103T070000
END:STANDARD
BEGIN:DAYLIGHT
TZOFFSETFROM:-0600
TZOFFSETTO:-0500
TZNAME:CDT
DTSTART:20250309T080000
END:DAYLIGHT
BEGIN:STANDARD
TZOFFSETFROM:-0500
TZOFFSETTO:-0600
TZNAME:CST
DTSTART:20251102T070000
END:STANDARD
END:VTIMEZONE
BEGIN:VEVENT
DTSTART;TZID=America/Chicago:20240917T080000
DTEND;TZID=America/Chicago:20240917T130000
DTSTAMP:20260423T111626
CREATED:20240902T153303Z
LAST-MODIFIED:20240902T153314Z
UID:9190-1726560000-1726578000@distributedwind.org
SUMMARY:PNNL-NREL 2024 Distributed Wind Energy Summit
DESCRIPTION:PNNL-NREL 2024 Distributed Wind Energy Summit\, Sept. 17\, 8 a.m.-1 p.m. PT (Virtual). Register here.
URL:https://distributedwind.org/event/pnnl-nrel-2024-distributed-wind-energy-summit/
LOCATION:virtual
END:VEVENT
END:VCALENDAR