BEGIN:VCALENDAR
VERSION:2.0
PRODID:-//Distributed Wind Energy Association - ECPv6.15.20//NONSGML v1.0//EN
CALSCALE:GREGORIAN
METHOD:PUBLISH
X-WR-CALNAME:Distributed Wind Energy Association
X-ORIGINAL-URL:https://distributedwind.org
X-WR-CALDESC:Events for Distributed Wind Energy Association
REFRESH-INTERVAL;VALUE=DURATION:PT1H
X-Robots-Tag:noindex
X-PUBLISHED-TTL:PT1H
BEGIN:VTIMEZONE
TZID:America/Chicago
BEGIN:DAYLIGHT
TZOFFSETFROM:-0600
TZOFFSETTO:-0500
TZNAME:CDT
DTSTART:20240310T080000
END:DAYLIGHT
BEGIN:STANDARD
TZOFFSETFROM:-0500
TZOFFSETTO:-0600
TZNAME:CST
DTSTART:20241103T070000
END:STANDARD
BEGIN:DAYLIGHT
TZOFFSETFROM:-0600
TZOFFSETTO:-0500
TZNAME:CDT
DTSTART:20250309T080000
END:DAYLIGHT
BEGIN:STANDARD
TZOFFSETFROM:-0500
TZOFFSETTO:-0600
TZNAME:CST
DTSTART:20251102T070000
END:STANDARD
BEGIN:DAYLIGHT
TZOFFSETFROM:-0600
TZOFFSETTO:-0500
TZNAME:CDT
DTSTART:20260308T080000
END:DAYLIGHT
BEGIN:STANDARD
TZOFFSETFROM:-0500
TZOFFSETTO:-0600
TZNAME:CST
DTSTART:20261101T070000
END:STANDARD
END:VTIMEZONE
BEGIN:VEVENT
DTSTART;VALUE=DATE:20250223
DTEND;VALUE=DATE:20250228
DTSTAMP:20260423T113646
CREATED:20240902T161742Z
LAST-MODIFIED:20240902T161742Z
UID:9218-1740268800-1740700799@distributedwind.org
SUMMARY:Distributed Wind 2025 Conference & Lobby Day\, Arlington\, Virginia
DESCRIPTION:Distributed Wind 2025 Conference & Lobby Day\, Arlington\, Virginia\, Feb. 23-27\, 2025. Save the Date!
URL:https://distributedwind.org/event/distributed-wind-2025-conference-lobby-day-arlington-virginia/
END:VEVENT
END:VCALENDAR