BEGIN:VCALENDAR
VERSION:2.0
PRODID:-//Distributed Wind Energy Association - ECPv6.15.20//NONSGML v1.0//EN
CALSCALE:GREGORIAN
METHOD:PUBLISH
X-WR-CALNAME:Distributed Wind Energy Association
X-ORIGINAL-URL:https://distributedwind.org
X-WR-CALDESC:Events for Distributed Wind Energy Association
REFRESH-INTERVAL;VALUE=DURATION:PT1H
X-Robots-Tag:noindex
X-PUBLISHED-TTL:PT1H
BEGIN:VTIMEZONE
TZID:America/Chicago
BEGIN:DAYLIGHT
TZOFFSETFROM:-0600
TZOFFSETTO:-0500
TZNAME:CDT
DTSTART:20130310T080000
END:DAYLIGHT
BEGIN:STANDARD
TZOFFSETFROM:-0500
TZOFFSETTO:-0600
TZNAME:CST
DTSTART:20131103T070000
END:STANDARD
BEGIN:DAYLIGHT
TZOFFSETFROM:-0600
TZOFFSETTO:-0500
TZNAME:CDT
DTSTART:20140309T080000
END:DAYLIGHT
BEGIN:STANDARD
TZOFFSETFROM:-0500
TZOFFSETTO:-0600
TZNAME:CST
DTSTART:20141102T070000
END:STANDARD
BEGIN:DAYLIGHT
TZOFFSETFROM:-0600
TZOFFSETTO:-0500
TZNAME:CDT
DTSTART:20150308T080000
END:DAYLIGHT
BEGIN:STANDARD
TZOFFSETFROM:-0500
TZOFFSETTO:-0600
TZNAME:CST
DTSTART:20151101T070000
END:STANDARD
BEGIN:DAYLIGHT
TZOFFSETFROM:-0600
TZOFFSETTO:-0500
TZNAME:CDT
DTSTART:20160313T080000
END:DAYLIGHT
BEGIN:STANDARD
TZOFFSETFROM:-0500
TZOFFSETTO:-0600
TZNAME:CST
DTSTART:20161106T070000
END:STANDARD
END:VTIMEZONE
BEGIN:VTIMEZONE
TZID:UTC
BEGIN:STANDARD
TZOFFSETFROM:+0000
TZOFFSETTO:+0000
TZNAME:UTC
DTSTART:20130101T000000
END:STANDARD
END:VTIMEZONE
BEGIN:VEVENT
DTSTART;TZID=America/Chicago:20150429T130000
DTEND;TZID=America/Chicago:20150429T140000
DTSTAMP:20260424T050801
CREATED:20150414T042024Z
LAST-MODIFIED:20150414T031007Z
UID:3367-1430312400-1430316000@distributedwind.org
SUMMARY:SMART Wind Consortium Virtual Electrical Subgroup Meeting
DESCRIPTION:Mark your calendar for Monthly SMART Wind Virtual Meetings!\nElectrical Subgroup Meeting: April 29\, 1-2 pm ET\n \nAll interested stakeholders are invited to participate in the Distributed Wind Energy Association (DWEA) SMART Wind Consortium virtual meeting for the Consortium’s Electrical Subgroup featuring Jim Sims\, Vice President Corporate Communications for Molycorp\, Inc.\, presenting on “Rare Earth Magnets in Distributed Wind Turbines.” Dr. Xing Chen\, Argonne National Laboratory\, will also present on rare earth magnets. Following the presentations\, we will lead a subgroup discussion to hear your thoughts and ideas. \nThe Electrical Subgroup met face-to-face in Washington\, DC\, on March 26\, 2015\, where distributed wind manufacturers and designers\, members of the power electronics industry\, alternator experts\, consultants\, and academic researchers discussed important topics such as inverter technology\, cost- effective power electronics\, rare earth magnets\, smart grid\, and opportunities in technology advances and manufacturing methods for cost reduction and reliability improvement. \nDWEA launched the U.S. Department of Commerce-funded Sustainable Manufacturing\, Advanced Research and Technology (SMART) Wind Consortium in October 2014\, starting a 2-year process of creating a U.S. Distributed Wind Roadmap to identify advanced manufacturing gaps and opportunities. The Consortium consists of four subgroups\, focused on Mechanical Systems\, Support Structures\, Composites\, and Electrical Systems. All subgroups have participated in face-to-face kickoff meetings; subsequent subgroup meetings will be held virtually\, leading up to the final Roadmap Prioritization meeting in March 2016. \nYou will receive the GoToMeeting login information after you register. If you would like to receive notices of future SMART Wind meetings\, please sign up for subgroups at: https://distributedwind.org/smart-wind-sign-up/ \nWe look forward to your virtual participation in this important project for the U.S. distributed wind industry. \n\n \nEvent registration for SMART Wind Consortium Virtual Electrical Subgroup Meeting powered by Eventbrite
URL:https://distributedwind.org/event/smart-wind-consortium-virtual-electrical-subgroup-meeting/
CATEGORIES:DWEA Event,SMART Wind
END:VEVENT
BEGIN:VEVENT
DTSTART;TZID=UTC:20150416T160000
DTEND;TZID=UTC:20150416T170000
DTSTAMP:20260424T050801
CREATED:20150320T225253Z
LAST-MODIFIED:20150331T201816Z
UID:3217-1429200000-1429203600@distributedwind.org
SUMMARY:DWEA Monthly Webinar: Wind Diesel and Islanded-Grids
DESCRIPTION:Online event registration for April DWEA Webinar: Wind Diesel and Islanded-Grids powered by Eventbrite
URL:https://distributedwind.org/event/dwea-monthly-webinar-wind-diesel-and-islanded-grids/
CATEGORIES:DWEA Event
END:VEVENT
BEGIN:VEVENT
DTSTART;TZID=UTC:20150325T173000
DTEND;TZID=UTC:20150326T193000
DTSTAMP:20260424T050801
CREATED:20150321T004908Z
LAST-MODIFIED:20150324T081019Z
UID:3223-1427304600-1427398200@distributedwind.org
SUMMARY:Electrical Systems Subgroup Meeting
DESCRIPTION:Electrical Systems Subgroup Meeting\nMarch 25-26 at the JW Marriott in Washington\, D.C. \nMeeting Registration | Agenda | Hotel | Participants | DW15 Sponsorship \n\nThank You to Our SMART Wind Electrical Meeting Sponsors: \n \n  \nThe SMART Wind Electrical Subgroup will be held after the Distributed Wind 2015 Business Conference and Hill Event. The subgroup will meet for dinner on March 25 and all day March 26. Click to register for Electrical Systems Subgroup or Full Conference pass. \n  \nRegistration Rates (not including Eventbrite Fee):\n\n\n\nType\n\nEarly Bird\n(by 2/28) \n\n\nRegular\n(thru 3/25)  \n\n\nOnsite or\nafter 3/25 \n\n\n\nSMART Wind Electrical Subgroup\nDWEA/AWEA Member/Non-Profit/Govt\n\nFree \n\n\n$25 \n\n\n$75 \n\n\n\nSMART Wind Electrical Subgroup\nNon Member\n\n$50 \n\n\n$100 \n\n\n$125 \n\n\n\nSMART Wind Electrical Subgroup\nOff  site \n\nN/A \n\n\n(thru 3/26) \n$50 \n\n\nN/A
URL:https://distributedwind.org/event/electrical-systems-subgroup-meeting/
LOCATION:JW Marriot\, 1331 Pennsylvania Ave NW\, Washington\, DC\, 20004
CATEGORIES:DWEA Event,SMART Wind
END:VEVENT
BEGIN:VEVENT
DTSTART;TZID=UTC:20150325T173000
DTEND;TZID=UTC:20150325T183000
DTSTAMP:20260424T050801
CREATED:20150321T010106Z
LAST-MODIFIED:20150321T010106Z
UID:3227-1427304600-1427308200@distributedwind.org
SUMMARY:DWEA Hill Reception
DESCRIPTION:5:30\nClosing Cocktails on the Hill\nSpeaker: Congressman David Young (IA-3) \nRegister via Distributed Wind 2015 General Registration
URL:https://distributedwind.org/event/dwea-hill-reception/
LOCATION:Rayburn Building\, Room B-354
ATTACH;FMTTYPE=image/jpeg:https://distributedwind.org/wp-content/uploads/2015/03/Capitol_HillI_Invite_2015.jpeg
END:VEVENT
BEGIN:VEVENT
DTSTART;TZID=America/Chicago:20150325T080000
DTEND;TZID=America/Chicago:20150326T170000
DTSTAMP:20260424T050801
CREATED:20150701T182524Z
LAST-MODIFIED:20150701T182524Z
UID:3965-1427270400-1427389200@distributedwind.org
SUMMARY:SMART Wind: Electrical Systems Subgroup
DESCRIPTION:Electrical Systems Subgroup Meeting\nMarch 25-26 at the JW Marriott in Washington\, D.C. \nMeeting Registration | Agenda | Hotel | Participants | DW15 Sponsorship
URL:https://distributedwind.org/event/smart-wind-electrical-systems-subgroup/
CATEGORIES:SMART Wind
END:VEVENT
BEGIN:VEVENT
DTSTART;TZID=UTC:20150324T173000
DTEND;TZID=UTC:20150324T190000
DTSTAMP:20260424T050801
CREATED:20150321T005525Z
LAST-MODIFIED:20150321T010200Z
UID:3225-1427218200-1427223600@distributedwind.org
SUMMARY:DC Chapter WoWE - DW 15 Networking Happy Hour
DESCRIPTION:Join the DC Members of Women of Wind Energy for an networking happy hour after the Distributed Wind 2015 Business Conference. \nMeet us at the Avenue Grille in the JW Marriott. \nThis event will be cash bar
URL:https://distributedwind.org/event/dc-chapter-wowe-dw-15-networking-happy-hour/
LOCATION:JW Marriot\, 1331 Pennsylvania Ave NW\, Washington\, DC\, 20004
CATEGORIES:DW15
ATTACH;FMTTYPE=image/png:https://distributedwind.org/wp-content/uploads/2014/10/WoWELogo.png
END:VEVENT
BEGIN:VEVENT
DTSTART;VALUE=DATE:20150324
DTEND;VALUE=DATE:20150327
DTSTAMP:20260424T050801
CREATED:20150320T221552Z
LAST-MODIFIED:20150321T005632Z
UID:3211-1427155200-1427414399@distributedwind.org
SUMMARY:Distributed Wind 2015 Business Conference and Lobby Day
DESCRIPTION:Home | Registration | Agenda | Hotel| Speakers| Sponsorship | Distributed Wind 101\n \nDistributed Wind 2015 is committed to the advancement of both distributed and community wind energy.  This two day event includes a Business Conference with sessions focused on advancing the knowledge of distributed and community wind professionals that want to learn more about growing the market for this sector of the wind industry. The second day begins with a lobby 101 session\, followed by a full day of meetings on Capitol Hill. All meetings are organized by DWEA and led by DWEA members. There is something for everyone involved in distributed wind industry. \nNew for 2015: \n\nDistributed Wind 101 sessions\nDistributed Wind Technology Showcase\nPost conference SMART Wind Systems Subgroup meeting\n\n\n\n\n\n\n  \nMany thanks to our event sponsors!  \n\nCapitol Hill Sponsor\n \n\n\n\n\n\n\nGold Sponsors\n\n\n\n\n\n\nSilver Sponsors \n \n\n\n\n\n\nBronze Sponsors\n\n\n\n\n \n \n\n\n\n\n\nEvent Partners \n          \n\n\n\n\n\nEvent Partners \n  \n 
URL:https://distributedwind.org/event/distributed-wind-2015-busincess-conference-and-lobby-day/
LOCATION:JW Marriot\, 1331 Pennsylvania Ave NW\, Washington\, DC\, 20004
CATEGORIES:DW15,DWEA Event
ATTACH;FMTTYPE=image/jpeg:https://distributedwind.org/wp-content/uploads/2015/01/dw15-web.jpg
END:VEVENT
BEGIN:VEVENT
DTSTART;TZID=America/Chicago:20150216T080000
DTEND;TZID=America/Chicago:20150218T170000
DTSTAMP:20260424T050801
CREATED:20150701T182310Z
LAST-MODIFIED:20150701T182310Z
UID:3964-1424073600-1424278800@distributedwind.org
SUMMARY:SMART Wind: Composites Subgroup
DESCRIPTION:Composites Subgroup Meeting\nFebruary 16-18\, 2015 in Louisville\, CO \nEvent Registration | Agenda | Hotel | Participants \nEvent Overview\nMonday\, February 16\, 6:00 PM\nOpen to all SMART Wind participants: “Dutch Treat” group dinner  \nGordon Biersch Brewing Company\, 1 West Flatiron Circle\, Flatiron Crossing\, Broomfield\, CO \nTuesday\, February 17\, 8 AM – 6:30 PM\nFull Subgroup Meeting | Location: National Wind Technology Center (NWTC)\, 18299 West 120th Avenue\, Louisville\, CO 80027 \n7-9 PM “Dutch Treat” dinner for all meeting attendees | Location:  Westminster Marriott \n\nWednesday\, February 18\, 9 AM – 12 PM\nBy Invitation Only: Half-day Wrap-up Meeting | Location: NWTC \nDirections to National Wind Technology Center (NWTC)\nThe NWTC is approximately 37 miles west of DIA. For directions and visitor info see visitor information. See a detailed map of NREL’s NWTC site. \nNOTE: You must check in at the NWTC Site Entrance Building and provide government-issued photo identification (for example driver’s license\, passport\, or military ID) to obtain a security badge before entering the site. Foreign nationals must check with DWEA by February 10 to sign and submit a Foreign National Data Card  for pre-approval. \n\nFor any questions about meeting logistics or registration please contact Aimee Gardere at agardere@distributedwind.org
URL:https://distributedwind.org/event/smart-wind-composites-subgroup/
CATEGORIES:SMART Wind
END:VEVENT
BEGIN:VEVENT
DTSTART;TZID=America/Chicago:20150113T080000
DTEND;TZID=America/Chicago:20150114T170000
DTSTAMP:20260424T050801
CREATED:20150701T182106Z
LAST-MODIFIED:20150701T182106Z
UID:3963-1421136000-1421254800@distributedwind.org
SUMMARY:SMART Wind: Support Structures Subgroup
DESCRIPTION:Support Structures Subgroup Meeting\nJanuary 13-14\, 2015\n15013 Denver West Parkway Golden\, CO 80401\nBeaver Creek B & C \nHome | Agenda | Hotel  | Participants  \nScroll down to register \nPrintable Program \n\nEvent Details\n\n\nOpen to all SMART Wind participants: \nTuesday\, January 13 \n11:30-1 pm   “Build Your Own Sandwich” Buffet Lunch | Location: NREL\, Golden\, CO \n1-5:15 pm           Full Subgroup Meeting | Location: NREL\, Golden\, CO \n6-8 pm          Everyone invited “Dutch Treat” group dinner\, RSVP required | Location: Mimi’s Cafe\, 14265 West Colfax Avenue\, Golden\, CO 80401  \n\nWednesday\, January 14 \n8 am-Noon  Full Subgroup Meeting | Location:  NREL\, Golden\, CO \nNoon-1 pm  Box Lunch \nNoon-1 pm  OEM Lunch Meeting\nBy Invitation Only for DWEA OEM Steering Group Members\, Subgroup Leaders & Core Team | Location:  NREL\, Golden\, CO \n1 – 5 pm (approximately)      Half day wrap-up meeting\nBy Invitation Only for DWEA OEM Steering Group Members\, Subgroup Leaders & Core Team:  | Location:  NREL\, Golden\, CO \nDirections to NREL – Golden\, CO\nNREL’s administrative offices and most research laboratories are located at our campus in Golden\, Colorado\, north of highway I-70 and west of Denver West Boulevard. See Golden visitor information to plan your trip. \nVisitors must check in at the Site Entrance Building. Please see Security Procedures for Golden Laboratories and Administrative Offices. \nNOTE: You must check in at the NREL Golden Site Entrance Building and provide government-issued photo identification (for example driver’s license\, passport\, or military ID) to obtain a security badge before entering the site. Foreign nationals must check with DWEA at least 3 business days prior to the meeting (by January 7) to sign and submit a Foreign National Data Card (complete sections 1-18) for approval. \nSee a detailed map of NREL’s Golden offices and laboratories. \nFor questions about meeting logistics or registration please contact Britton Rife at brife@eformativeoptions.com.
URL:https://distributedwind.org/event/smart-wind-support-structures-subgroup/
CATEGORIES:SMART Wind
END:VEVENT
BEGIN:VEVENT
DTSTART;TZID=America/Chicago:20141113T080000
DTEND;TZID=America/Chicago:20141113T170000
DTSTAMP:20260424T050801
CREATED:20150701T181545Z
LAST-MODIFIED:20150701T181545Z
UID:3962-1415865600-1415898000@distributedwind.org
SUMMARY:SMART Wind: Mechanical Systems Subgroup
DESCRIPTION:Mechanical Systems Subgroup Meeting\nNovember 12-14 in Denver/Boulder area \nHome | Agenda | Hotel | Participants | Connect \nPrintable Program
URL:https://distributedwind.org/event/smart-wind-mechanical-systems-subgroup/
CATEGORIES:SMART Wind
END:VEVENT
BEGIN:VEVENT
DTSTART;TZID=UTC:20141016T080000
DTEND;TZID=UTC:20141016T170000
DTSTAMP:20260424T050801
CREATED:20150701T181418Z
LAST-MODIFIED:20150701T181418Z
UID:3961-1413446400-1413478800@distributedwind.org
SUMMARY:SMART Wind Consortium Launch
DESCRIPTION:SMART Wind Consortium Launch\nHome | Registration | Agenda | Hotel | Speakers | DWEA All-States Summit
URL:https://distributedwind.org/event/smart-wind-consortium-launch/
CATEGORIES:SMART Wind
END:VEVENT
BEGIN:VEVENT
DTSTART;TZID=UTC:20140723T150000
DTEND;TZID=UTC:20140723T160000
DTSTAMP:20260424T050801
CREATED:20150701T180945Z
LAST-MODIFIED:20150701T181210Z
UID:3960-1406127600-1406131200@distributedwind.org
SUMMARY:SMART Wind Consortium Intro Webinar
DESCRIPTION:Developing a Sustainable Manufacturing\, Advanced Research & Technology (SMART) Roadmap for Distributed Wind \nWatch a recording of our national roll-out of the U.S. Department of Commerce’s National Institute of Science and Technology (NIST) 2-year planning grant to the Distributed Wind Energy Association (DWEA)\, supported by eFormative Options and Wind Advisors Team\, to form a Consortium of distributed wind energy equipment manufacturers\, suppliers\, and academic researchers and develop a Roadmap to identify common manufacturing gaps\, prioritize actions to close these gaps\, and foster rapid transfer of solutions. \nThe project Core Team presented an overview\, recapped FAQs about the project\, and then provided an opportunity for stakeholders interested participating in the SMART Wind Consortium and Roadmapping effort to introduce their expertise and expected Subgroup roles\, ask questions and help shape upcoming plans.
URL:https://distributedwind.org/event/smart-wind-consortium-intro-webinar/
CATEGORIES:SMART Wind
END:VEVENT
END:VCALENDAR