BEGIN:VCALENDAR
VERSION:2.0
PRODID:-//Distributed Wind Energy Association - ECPv6.15.20//NONSGML v1.0//EN
CALSCALE:GREGORIAN
METHOD:PUBLISH
X-ORIGINAL-URL:https://distributedwind.org
X-WR-CALDESC:Events for Distributed Wind Energy Association
REFRESH-INTERVAL;VALUE=DURATION:PT1H
X-Robots-Tag:noindex
X-PUBLISHED-TTL:PT1H
BEGIN:VTIMEZONE
TZID:America/Chicago
BEGIN:DAYLIGHT
TZOFFSETFROM:-0600
TZOFFSETTO:-0500
TZNAME:CDT
DTSTART:20230312T080000
END:DAYLIGHT
BEGIN:STANDARD
TZOFFSETFROM:-0500
TZOFFSETTO:-0600
TZNAME:CST
DTSTART:20231105T070000
END:STANDARD
BEGIN:DAYLIGHT
TZOFFSETFROM:-0600
TZOFFSETTO:-0500
TZNAME:CDT
DTSTART:20240310T080000
END:DAYLIGHT
BEGIN:STANDARD
TZOFFSETFROM:-0500
TZOFFSETTO:-0600
TZNAME:CST
DTSTART:20241103T070000
END:STANDARD
BEGIN:DAYLIGHT
TZOFFSETFROM:-0600
TZOFFSETTO:-0500
TZNAME:CDT
DTSTART:20250309T080000
END:DAYLIGHT
BEGIN:STANDARD
TZOFFSETFROM:-0500
TZOFFSETTO:-0600
TZNAME:CST
DTSTART:20251102T070000
END:STANDARD
END:VTIMEZONE
BEGIN:VEVENT
DTSTART;TZID=America/Chicago:20241017T080000
DTEND;TZID=America/Chicago:20241017T130000
DTSTAMP:20260423T150323
CREATED:20240902T161050Z
LAST-MODIFIED:20240902T161050Z
UID:9200-1729152000-1729170000@distributedwind.org
SUMMARY:DWEA Service Provider Committee virtual meeting
DESCRIPTION:DWEA Service Provider Committee virtual meeting\, Oct. 17\, 1 p.m. ET. Contact Trudy Forsyth at trudyforsyth2@gmail.com for information.
URL:https://distributedwind.org/event/dwea-service-provider-committee-virtual-meeting-3/
END:VEVENT
BEGIN:VEVENT
DTSTART;TZID=America/Chicago:20241017T150000
DTEND;TZID=America/Chicago:20241017T150000
DTSTAMP:20260423T150323
CREATED:20240902T161133Z
LAST-MODIFIED:20240902T161133Z
UID:9202-1729177200-1729177200@distributedwind.org
SUMMARY:DWEA Federal Policy Update
DESCRIPTION:DWEA Federal Policy Update\, Oct. 17\, 3 p.m. ET. Click here to join Zoom.
URL:https://distributedwind.org/event/dwea-federal-policy-update-2/
END:VEVENT
BEGIN:VEVENT
DTSTART;TZID=America/Chicago:20241018T140000
DTEND;TZID=America/Chicago:20241018T170000
DTSTAMP:20260423T150323
CREATED:20240902T161211Z
LAST-MODIFIED:20240902T161211Z
UID:9204-1729260000-1729270800@distributedwind.org
SUMMARY:AgWind/REAP DWEA office hours (virtual)
DESCRIPTION:AgWind/REAP DWEA office hours (virtual)\, Oct. 18\, 2 p.m. ET. Register here.
URL:https://distributedwind.org/event/agwind-reap-dwea-office-hours-virtual-2/
END:VEVENT
END:VCALENDAR